BEGIN:VCALENDAR
VERSION:2.0
PRODID:-//Plone.org//NONSGML plone.app.event//EN
X-WR-TIMEZONE:Europe/Madrid
BEGIN:VEVENT
SUMMARY:Passejada mediambiental: Sortida per la platja
DTSTART;TZID=Europe/Madrid;VALUE=DATE-TIME:20190726T190000
DTEND;TZID=Europe/Madrid;VALUE=DATE-TIME:20190726T200000
DTSTAMP;VALUE=DATE-TIME:20260423T200904Z
UID:e2f1e539a0abd95bc2e62671d97e59ee
CREATED;VALUE=DATE-TIME:20190726T000000Z
LOCATION:Biblioplatja - Platja de la Picòrdia
ORGANIZER:Biblioteca - Regidoria de Cultura i Regidoria de Medi Ambient
COMMENT:Preu: Inscripcions a la Biblioteca i/o a la Biblioplatja - Places limitades
DESCRIPTION:a càrrec d'Enric Badosa, biòleg
URL:https://arenysdemar.cat/document.php?id=36884
END:VEVENT
END:VCALENDAR