BEGIN:VCALENDAR
VERSION:2.0
PRODID:-//Plone.org//NONSGML plone.app.event//EN
X-WR-TIMEZONE:Europe/Madrid
BEGIN:VEVENT
SUMMARY:Hora del conte i taller per a infants: Gat i gat
DTSTART;TZID=Europe/Madrid;VALUE=DATE-TIME:20190829T183000
DTEND;TZID=Europe/Madrid;VALUE=DATE-TIME:20190829T193000
DTSTAMP;VALUE=DATE-TIME:20260421T011312Z
UID:d9fdde04f85cc3522041b4d600ff2414
CREATED;VALUE=DATE-TIME:20190829T000000Z
CATEGORIES:Literatura
LOCATION:Biblioplatja - Platja de la Picòrdia
ORGANIZER:Biblioteca - Regidoria de Cultura
DESCRIPTION:a càrrec de Mercè Rubí
URL:https://arenysdemar.cat/document.php?id=36887
END:VEVENT
END:VCALENDAR