BEGIN:VCALENDAR
VERSION:2.0
PRODID:-//Plone.org//NONSGML plone.app.event//EN
X-WR-TIMEZONE:Europe/Madrid
BEGIN:VEVENT
SUMMARY:Hora del conte i taller per a infants: Contes que bufa el vent
DTSTART;TZID=Europe/Madrid;VALUE=DATE-TIME:20190822T183000
DTEND;TZID=Europe/Madrid;VALUE=DATE-TIME:20190822T193000
DTSTAMP;VALUE=DATE-TIME:20260420T120231Z
UID:4041ffa1338a9534f63d9bc64e6078be
CREATED;VALUE=DATE-TIME:20190822T000000Z
CATEGORIES:Infantils
LOCATION:Biblioplatja - Platja de la Picòrdia
ORGANIZER:Biblioteca - Regidoria de Cultura
DESCRIPTION:a càrrec de Violeta Antò
URL:https://arenysdemar.cat/document.php?id=36890
END:VEVENT
END:VCALENDAR