BEGIN:VCALENDAR
VERSION:2.0
PRODID:-//Plone.org//NONSGML plone.app.event//EN
X-WR-TIMEZONE:Europe/Madrid
BEGIN:VEVENT
SUMMARY:45a Matinal de pesca amb canya infantil i juvenil
DTSTART;TZID=Europe/Madrid;VALUE=DATE-TIME:20190707T100000
DTEND;TZID=Europe/Madrid;VALUE=DATE-TIME:20190707T110000
DTSTAMP;VALUE=DATE-TIME:20260424T061616Z
UID:92655d6fad074280e8411b261541d9fd
CREATED;VALUE=DATE-TIME:20190707T000000Z
CATEGORIES:Esports,Festa,Infantils
LOCATION:Instal·lacions del Club de Pesca Mar Sport
ORGANIZER:Club de Pesca Mar Sport
COMMENT:Preu: gratuït
Durada: de 10 del matí a 1 del migdia
DESCRIPTION:Sorteig dels llocs una hora abans al Club
URL:https://arenysdemar.cat/document.php?id=36905
END:VEVENT
END:VCALENDAR