BEGIN:VCALENDAR
VERSION:2.0
PRODID:-//Plone.org//NONSGML plone.app.event//EN
X-WR-TIMEZONE:Europe/Madrid
BEGIN:VEVENT
SUMMARY:Mostra de cant coral
DTSTART;TZID=Europe/Madrid;VALUE=DATE-TIME:20191116T190000
DTEND;TZID=Europe/Madrid;VALUE=DATE-TIME:20191116T200000
DTSTAMP;VALUE=DATE-TIME:20260424T125758Z
UID:6ed86f331abffbacd9393722e4a9695d
CREATED;VALUE=DATE-TIME:20191116T000000Z
CATEGORIES:Música
LOCATION:Teatre Principal - C. Església, 45-47
ORGANIZER:Societat Coral l'Esperança
COMMENT:Preu: Col·laboració 3&euro;
URL:https://arenysdemar.cat/document.php?id=36922
END:VEVENT
END:VCALENDAR