BEGIN:VCALENDAR
VERSION:2.0
PRODID:-//Plone.org//NONSGML plone.app.event//EN
X-WR-TIMEZONE:Europe/Madrid
BEGIN:VEVENT
SUMMARY:Aprenem a fer còctels d'estiu
DTSTART;TZID=Europe/Madrid;VALUE=DATE-TIME:20190730T190000
DTEND;TZID=Europe/Madrid;VALUE=DATE-TIME:20190730T200000
DTSTAMP;VALUE=DATE-TIME:20260424T005639Z
UID:67c71cfa2e62f9170ab064f2b91a93c2
CREATED;VALUE=DATE-TIME:20190730T000000Z
CATEGORIES:Mostra
LOCATION:Biblioplatja - Platja de la Picòrdia
ORGANIZER:Biblioteca - Regidoria de Cultura
DESCRIPTION:a càrrec d'Arnau Barangé, de la Copa Negra
URL:https://arenysdemar.cat/document.php?id=36976
END:VEVENT
END:VCALENDAR