BEGIN:VCALENDAR
VERSION:2.0
PRODID:-//Plone.org//NONSGML plone.app.event//EN
X-WR-TIMEZONE:Europe/Madrid
BEGIN:VEVENT
SUMMARY:Patronat de Sant Roc: Festa Patrimonial d'Interès Nacional
DTSTART;TZID=Europe/Madrid;VALUE=DATE-TIME:20190727T200000
DTEND;TZID=Europe/Madrid;VALUE=DATE-TIME:20190727T210000
DTSTAMP;VALUE=DATE-TIME:20260421T171446Z
UID:ce9a797e4542898b08abb4f863866fa5
CREATED;VALUE=DATE-TIME:20190727T000000Z
CATEGORIES:Conferència
LOCATION:Sala gran del Museu Marès de les Puntes (1r pis) - Església, 41
ORGANIZER:Patronat de Sant Roc
URL:https://arenysdemar.cat/document.php?id=36999
END:VEVENT
END:VCALENDAR