BEGIN:VCALENDAR
VERSION:2.0
PRODID:-//Plone.org//NONSGML plone.app.event//EN
X-WR-TIMEZONE:Europe/Madrid
BEGIN:VEVENT
SUMMARY:Reunió Mostra d'Entitats d'Arenys de Mar
DTSTART;TZID=Europe/Madrid;VALUE=DATE-TIME:20190805T190000
DTEND;TZID=Europe/Madrid;VALUE=DATE-TIME:20190805T200000
DTSTAMP;VALUE=DATE-TIME:20260421T122325Z
UID:d867bddccd0bc43e287fb645b14ee87f
CREATED;VALUE=DATE-TIME:20190805T000000Z
CATEGORIES:Mostra
LOCATION:Local de la Vocalia de Jubilats d'Arenys de Mar. (carrer de Sant Josep, 5)
ORGANIZER:Comissió de la Mostra d'Entitats d'Arenys de Mar
URL:https://arenysdemar.cat/document.php?id=37039
END:VEVENT
END:VCALENDAR