BEGIN:VCALENDAR
VERSION:2.0
PRODID:-//Plone.org//NONSGML plone.app.event//EN
X-WR-TIMEZONE:Europe/Madrid
BEGIN:VEVENT
SUMMARY:Concert de cant coral
DTSTART;TZID=Europe/Madrid;VALUE=DATE-TIME:20190928T200000
DTEND;TZID=Europe/Madrid;VALUE=DATE-TIME:20190928T210000
DTSTAMP;VALUE=DATE-TIME:20260422T025925Z
UID:ccf7506edc6df7e6a0c3bdfd2ff873a9
CREATED;VALUE=DATE-TIME:20190928T000000Z
CATEGORIES:Música
LOCATION:Club de Pesca Mar Sport
ORGANIZER:Club de Pesca Mar Sport
COMMENT:Preu: gratuït
DESCRIPTION:a càrrec de la Societat Coral de l'Esperança
URL:https://arenysdemar.cat/document.php?id=37053
END:VEVENT
END:VCALENDAR