BEGIN:VCALENDAR
VERSION:2.0
PRODID:-//Plone.org//NONSGML plone.app.event//EN
X-WR-TIMEZONE:Europe/Madrid
BEGIN:VEVENT
SUMMARY:Festa del 135è aniversari
DTSTART;TZID=Europe/Madrid;VALUE=DATE-TIME:20190907T210000
DTEND;TZID=Europe/Madrid;VALUE=DATE-TIME:20190907T220000
DTSTAMP;VALUE=DATE-TIME:20260421T231903Z
UID:8768ca710816d1a1d025e02c5d2370f2
CREATED;VALUE=DATE-TIME:20190907T000000Z
CATEGORIES:Festa,Música
LOCATION:Ateneu Arenyenc - Anselm Clavé, 22
ORGANIZER:Ateneu Arenyenc
COMMENT:Preu: Soci 20 euros, No Soci 25 euros
DESCRIPTION:Sopar i ball amb Pep i Maria José Trio
URL:https://arenysdemar.cat/document.php?id=37054
END:VEVENT
END:VCALENDAR