BEGIN:VCALENDAR
VERSION:2.0
PRODID:-//Plone.org//NONSGML plone.app.event//EN
X-WR-TIMEZONE:Europe/Madrid
BEGIN:VEVENT
SUMMARY:Ball del dissabte. Inauguració de la temporada 2019/2020
DTSTART;TZID=Europe/Madrid;VALUE=DATE-TIME:20190921T223000
DTEND;TZID=Europe/Madrid;VALUE=DATE-TIME:20190921T233000
DTSTAMP;VALUE=DATE-TIME:20260424T024209Z
UID:e79f5b257013d1f3730fe921cbfbb7fe
CREATED;VALUE=DATE-TIME:20190921T000000Z
CATEGORIES:Música
LOCATION:Ateneu Arenyenc - Anselm Clavé, 22
ORGANIZER:Ateneu Arenyenc
COMMENT:Preu: Soci: 5 euros, No Soci 7 euros
DESCRIPTION:amb el Duet Ària
URL:https://arenysdemar.cat/document.php?id=37066
END:VEVENT
END:VCALENDAR