BEGIN:VCALENDAR
VERSION:2.0
PRODID:-//Plone.org//NONSGML plone.app.event//EN
X-WR-TIMEZONE:Europe/Madrid
BEGIN:VEVENT
SUMMARY:Obertura de l'exposició #Grocs
DTSTART;TZID=Europe/Madrid;VALUE=DATE-TIME:20190906T180000
DTEND;TZID=Europe/Madrid;VALUE=DATE-TIME:20190906T190000
DTSTAMP;VALUE=DATE-TIME:20260423T181230Z
UID:d88aad89a4fab8b210076c06e94afe4b
CREATED;VALUE=DATE-TIME:20190906T000000Z
CATEGORIES:Exposició
LOCATION:Convent de les Clarisses - Carrer Sant Clara, 16
ORGANIZER:Regidoria de Cultura
COMMENT:Durada: fins al 29 de setembre
DESCRIPTION:de dibuixos de Toni Ferron
URL:https://arenysdemar.cat/document.php?id=37067
END:VEVENT
END:VCALENDAR