BEGIN:VCALENDAR
VERSION:2.0
PRODID:-//Plone.org//NONSGML plone.app.event//EN
X-WR-TIMEZONE:Europe/Madrid
BEGIN:VEVENT
SUMMARY:Hora del conte
DTSTART;TZID=Europe/Madrid;VALUE=DATE-TIME:20191017T180000
DTEND;TZID=Europe/Madrid;VALUE=DATE-TIME:20191017T190000
DTSTAMP;VALUE=DATE-TIME:20260423T182437Z
UID:e40646f9789701cb6b8dfdf528625f42
CREATED;VALUE=DATE-TIME:20191017T000000Z
CATEGORIES:Infantils
LOCATION:Sala d'Actes de la Biblioteca - C. Bonaire, 3
ORGANIZER:Biblioteca - Regidoria de Cultura
DESCRIPTION:a càrrec de la Carme Vera
URL:https://arenysdemar.cat/document.php?id=37151
END:VEVENT
END:VCALENDAR