BEGIN:VCALENDAR
VERSION:2.0
PRODID:-//Plone.org//NONSGML plone.app.event//EN
X-WR-TIMEZONE:Europe/Madrid
BEGIN:VEVENT
SUMMARY:Viatge a Les Dolomites dels Alps italians
DTSTART;TZID=Europe/Madrid;VALUE=DATE-TIME:20191012T000000
DTEND;TZID=Europe/Madrid;VALUE=DATE-TIME:20191012T010000
DTSTAMP;VALUE=DATE-TIME:20260420T184903Z
UID:cabd3c6efa8e1a1fa4a9df738f49a028
CREATED;VALUE=DATE-TIME:20191012T000000Z
LOCATION:Sortida de la Riera davant del CC Calisay
ORGANIZER:Esplai de la Gent Gran
URL:https://arenysdemar.cat/document.php?id=37159
END:VEVENT
END:VCALENDAR