BEGIN:VCALENDAR
VERSION:2.0
PRODID:-//Plone.org//NONSGML plone.app.event//EN
X-WR-TIMEZONE:Europe/Madrid
BEGIN:VEVENT
SUMMARY:Fira + KNeu
DTSTART;TZID=Europe/Madrid;VALUE=DATE-TIME:20191102T100000
DTEND;TZID=Europe/Madrid;VALUE=DATE-TIME:20191102T110000
DTSTAMP;VALUE=DATE-TIME:20260423T232021Z
UID:339d9e73c14b4184a2c05db560828c04
CREATED;VALUE=DATE-TIME:20191102T000000Z
CATEGORIES:Esports
LOCATION:Plaça de l'Església - Plaça de l'Església
ORGANIZER:Associació Ski Arenys
COMMENT:Durada: De les 10 a les 20 hores
DESCRIPTION:Fira de la Neu i la Muntanya
URL:https://arenysdemar.cat/document.php?id=37172
END:VEVENT
END:VCALENDAR