BEGIN:VCALENDAR
VERSION:2.0
PRODID:-//Plone.org//NONSGML plone.app.event//EN
X-WR-TIMEZONE:Europe/Madrid
BEGIN:VEVENT
SUMMARY:Reconeixements esportius temporada 2018 - 2019
DTSTART;TZID=Europe/Madrid;VALUE=DATE-TIME:20191003T190000
DTEND;TZID=Europe/Madrid;VALUE=DATE-TIME:20191003T200000
DTSTAMP;VALUE=DATE-TIME:20260423T134239Z
UID:98afe5784afc5a5c5f133331682f675c
CREATED;VALUE=DATE-TIME:20191003T000000Z
CATEGORIES:Esports
LOCATION:Teatre Principal - C. Església, 45-47
ORGANIZER:Regidoria d'Esports
DESCRIPTION:Menció Especial Bernat Coll
URL:https://arenysdemar.cat/document.php?id=37175
END:VEVENT
END:VCALENDAR