BEGIN:VCALENDAR
VERSION:2.0
PRODID:-//Plone.org//NONSGML plone.app.event//EN
X-WR-TIMEZONE:Europe/Madrid
BEGIN:VEVENT
SUMMARY:3r Cicle de xerrades d'escriptura terapèutica: El conte terapèutic. Potencia les teves virtuts
DTSTART;TZID=Europe/Madrid;VALUE=DATE-TIME:20191025T190000
DTEND;TZID=Europe/Madrid;VALUE=DATE-TIME:20191025T200000
DTSTAMP;VALUE=DATE-TIME:20260421T093117Z
UID:30c3c1477504e8e1b03acc726fbd904b
CREATED;VALUE=DATE-TIME:20191025T000000Z
CATEGORIES:Conferència
LOCATION:Ateneu Arenyenc - Anselm Clavé, 22
ORGANIZER:Ateneu Arenyenc
COMMENT:Preu: Gratuït
DESCRIPTION:a càrrec d'Eva Lleonart
URL:https://arenysdemar.cat/document.php?id=37190
END:VEVENT
END:VCALENDAR