BEGIN:VCALENDAR
VERSION:2.0
PRODID:-//Plone.org//NONSGML plone.app.event//EN
X-WR-TIMEZONE:Europe/Madrid
BEGIN:VEVENT
SUMMARY:Inauguració del curs de Tennis taula infantil
DTSTART;TZID=Europe/Madrid;VALUE=DATE-TIME:20191005T100000
DTEND;TZID=Europe/Madrid;VALUE=DATE-TIME:20191005T110000
DTSTAMP;VALUE=DATE-TIME:20260421T015543Z
UID:89ee7e62412f652b23ce1be1ebdc7d13
CREATED;VALUE=DATE-TIME:20191005T000000Z
CATEGORIES:Esports
LOCATION:Ateneu Arenyenc - Anselm Clavé, 22
ORGANIZER:Ateneu Arenyenc
COMMENT:Preu: Inscripcions a Secretaria
URL:https://arenysdemar.cat/document.php?id=37192
END:VEVENT
END:VCALENDAR