BEGIN:VCALENDAR
VERSION:2.0
PRODID:-//Plone.org//NONSGML plone.app.event//EN
X-WR-TIMEZONE:Europe/Madrid
BEGIN:VEVENT
SUMMARY:Conferència: The Beatles al microscopi
DTSTART;TZID=Europe/Madrid;VALUE=DATE-TIME:20191004T193000
DTEND;TZID=Europe/Madrid;VALUE=DATE-TIME:20191004T203000
DTSTAMP;VALUE=DATE-TIME:20260420T165014Z
UID:0a613c37066f9d50259365825df14b61
CREATED;VALUE=DATE-TIME:20191004T000000Z
CATEGORIES:Conferència
LOCATION:Ateneu Arenyenc - Anselm Clavé, 22
ORGANIZER:Ateneu Arenyenc
COMMENT:Preu: Gratuït
DESCRIPTION:a càrrec de Josep Barberà, expert en el mític grup
URL:https://arenysdemar.cat/document.php?id=37193
END:VEVENT
END:VCALENDAR