BEGIN:VCALENDAR
VERSION:2.0
PRODID:-//Plone.org//NONSGML plone.app.event//EN
X-WR-TIMEZONE:Europe/Madrid
BEGIN:VEVENT
SUMMARY:Showcooking amb calamars al Mercat -ACTIVITAT SUSPESA-
DTSTART;TZID=Europe/Madrid;VALUE=DATE-TIME:20191018T180000
DTEND;TZID=Europe/Madrid;VALUE=DATE-TIME:20191018T190000
DTSTAMP;VALUE=DATE-TIME:20260423T144649Z
UID:5ac94e82c4ef8bd295fad1c19aa59f68
CREATED;VALUE=DATE-TIME:20191018T000000Z
CATEGORIES:Mostra
LOCATION:Mercat municipal - Riera Bisbe Pol, 82
ORGANIZER:Regidoria de Promoció Econòmica i Restaurant Mot del Vila
URL:https://arenysdemar.cat/document.php?id=37196
END:VEVENT
END:VCALENDAR