BEGIN:VCALENDAR
VERSION:2.0
PRODID:-//Plone.org//NONSGML plone.app.event//EN
X-WR-TIMEZONE:Europe/Madrid
BEGIN:VEVENT
SUMMARY:Visita guiada a l'exposició: #Grocs
DTSTART;TZID=Europe/Madrid;VALUE=DATE-TIME:20190929T120000
DTEND;TZID=Europe/Madrid;VALUE=DATE-TIME:20190929T130000
DTSTAMP;VALUE=DATE-TIME:20260422T105848Z
UID:18456419942ba60724fb955337a155ba
CREATED;VALUE=DATE-TIME:20190929T000000Z
CATEGORIES:Exposició
LOCATION:Sala exposicions de les Clarisses
ORGANIZER:Regidoria de Cultura
DESCRIPTION:Dibuixos de Toni Ferron
URL:https://arenysdemar.cat/document.php?id=37234
END:VEVENT
END:VCALENDAR