BEGIN:VCALENDAR
VERSION:2.0
PRODID:-//Plone.org//NONSGML plone.app.event//EN
X-WR-TIMEZONE:Europe/Madrid
BEGIN:VEVENT
SUMMARY:Músiques Nadalenques amb la Orquestrina Sinerenca
DTSTART;TZID=Europe/Madrid;VALUE=DATE-TIME:20191214T190000
DTEND;TZID=Europe/Madrid;VALUE=DATE-TIME:20191214T200000
DTSTAMP;VALUE=DATE-TIME:20260421T010840Z
UID:61e9f5a8c177c1bb63b0979a42afc2dc
CREATED;VALUE=DATE-TIME:20191214T000000Z
CATEGORIES:Música
LOCATION:Plaça de l'Església - Plaça de l'Església
ORGANIZER:Associació Fira del Solstici
DESCRIPTION:Fira de Nadal
URL:https://arenysdemar.cat/document.php?id=37261
END:VEVENT
END:VCALENDAR