BEGIN:VCALENDAR
VERSION:2.0
PRODID:-//Plone.org//NONSGML plone.app.event//EN
X-WR-TIMEZONE:Europe/Madrid
BEGIN:VEVENT
SUMMARY:Converses a la carta en alemany. Gespräche nach Wahl
DTSTART;TZID=Europe/Madrid;VALUE=DATE-TIME:20191127T190000
DTEND;TZID=Europe/Madrid;VALUE=DATE-TIME:20191127T200000
DTSTAMP;VALUE=DATE-TIME:20260420T164647Z
UID:208d0fa2b530a6d6216bd69662413754
CREATED;VALUE=DATE-TIME:20191127T000000Z
CATEGORIES:Cursos
LOCATION:Biblioteca - Bonaire, 2
ORGANIZER:Biblioteca - Regidoria de Cultura
COMMENT:Preu: Inscripcions a la Biblioteca
DESCRIPTION:a càrrec d'Eva Puigventós
URL:https://arenysdemar.cat/document.php?id=37331
END:VEVENT
END:VCALENDAR