BEGIN:VCALENDAR
VERSION:2.0
PRODID:-//Plone.org//NONSGML plone.app.event//EN
X-WR-TIMEZONE:Europe/Madrid
BEGIN:VEVENT
SUMMARY:Converses a la carta en italià. Conversazione in italiano
DTSTART;TZID=Europe/Madrid;VALUE=DATE-TIME:20191104T190000
DTEND;TZID=Europe/Madrid;VALUE=DATE-TIME:20191104T200000
DTSTAMP;VALUE=DATE-TIME:20260423T171144Z
UID:f711f9b1159ba2a354eb66d351acbe6e
CREATED;VALUE=DATE-TIME:20191104T000000Z
CATEGORIES:Cursos
LOCATION:Sala d'Actes de la Biblioteca - C. Bonaire, 3
ORGANIZER:Biblioteca - Regidoria de Cultura
COMMENT:Preu: Inscripcions a la Biblioteca
DESCRIPTION:a càrrec d'Anna Riera
URL:https://arenysdemar.cat/document.php?id=37335
END:VEVENT
END:VCALENDAR