BEGIN:VCALENDAR
VERSION:2.0
PRODID:-//Plone.org//NONSGML plone.app.event//EN
X-WR-TIMEZONE:Europe/Madrid
BEGIN:VEVENT
SUMMARY:Teatre: Dones com jo
DTSTART;TZID=Europe/Madrid;VALUE=DATE-TIME:20191117T180000
DTEND;TZID=Europe/Madrid;VALUE=DATE-TIME:20191117T190000
DTSTAMP;VALUE=DATE-TIME:20260420T032730Z
UID:2c09c4c793f9b5960cf59d30f558e81d
CREATED;VALUE=DATE-TIME:20191117T000000Z
CATEGORIES:Teatre
LOCATION:Casal de Joventut Seràfica - Josep Baralt, s/n
ORGANIZER:GeaTeatre de Canet de Mar
COMMENT:Preu: 4 euros
URL:https://arenysdemar.cat/document.php?id=37341
END:VEVENT
END:VCALENDAR