BEGIN:VCALENDAR
VERSION:2.0
PRODID:-//Plone.org//NONSGML plone.app.event//EN
X-WR-TIMEZONE:Europe/Madrid
BEGIN:VEVENT
SUMMARY:Coses de la vida: a ritme de bolero
DTSTART;TZID=Europe/Madrid;VALUE=DATE-TIME:20191201T120000
DTEND;TZID=Europe/Madrid;VALUE=DATE-TIME:20191201T130000
DTSTAMP;VALUE=DATE-TIME:20260423T122013Z
UID:332fe88a52b03ee9719f2859c71c8976
CREATED;VALUE=DATE-TIME:20191201T000000Z
CATEGORIES:Literatura,Música
LOCATION:Sala Josep Maria Arnau del C.C.Calisay - Riera del Pare Fita, 31
ORGANIZER:Centre Espriu i Regidoria de Cultura
COMMENT:Preu: Gratuït
Durada: 1h. 15'
DESCRIPTION:Any Teresa Pàmies
URL:https://arenysdemar.cat/document.php?id=37434
END:VEVENT
END:VCALENDAR