BEGIN:VCALENDAR
VERSION:2.0
PRODID:-//Plone.org//NONSGML plone.app.event//EN
X-WR-TIMEZONE:Europe/Madrid
BEGIN:VEVENT
SUMMARY:Itinerari d'art a la Fundació Miró. Visita guiada
DTSTART;TZID=Europe/Madrid;VALUE=DATE-TIME:20191212T000000
DTEND;TZID=Europe/Madrid;VALUE=DATE-TIME:20191212T010000
DTSTAMP;VALUE=DATE-TIME:20260424T094945Z
UID:380343c3ac99511c6067df5bcc7f2be8
CREATED;VALUE=DATE-TIME:20191212T000000Z
CATEGORIES:Exposició,Mostra
LOCATION:Sortida de la Riera, davant del Calisay
ORGANIZER:Aula d'Extensió Universitària
URL:https://arenysdemar.cat/document.php?id=37445
END:VEVENT
END:VCALENDAR