BEGIN:VCALENDAR
VERSION:2.0
PRODID:-//Plone.org//NONSGML plone.app.event//EN
X-WR-TIMEZONE:Europe/Madrid
BEGIN:VEVENT
SUMMARY:Fem cagar el Tió!!
DTSTART;TZID=Europe/Madrid;VALUE=DATE-TIME:20191222T110000
DTEND;TZID=Europe/Madrid;VALUE=DATE-TIME:20191222T120000
DTSTAMP;VALUE=DATE-TIME:20260424T054528Z
UID:1d59e2e7df68a33e0d0c2fee85d1e731
CREATED;VALUE=DATE-TIME:20191222T000000Z
CATEGORIES:Infantils
LOCATION:Pati del C.C.Calisay - Riera del Pare Fita, 31
ORGANIZER:Regidoria de Festes
COMMENT:Durada: Fins a les 2 del migdia
DESCRIPTION:Caga Tió, caga torró, si no cagues bo... et donaré un cop de bastó!!
URL:https://arenysdemar.cat/document.php?id=37450
END:VEVENT
END:VCALENDAR