BEGIN:VCALENDAR
VERSION:2.0
PRODID:-//Plone.org//NONSGML plone.app.event//EN
X-WR-TIMEZONE:Europe/Madrid
BEGIN:VEVENT
SUMMARY:Sortida a la neu
DTSTART;TZID=Europe/Madrid;VALUE=DATE-TIME:20200125T051500
DTEND;TZID=Europe/Madrid;VALUE=DATE-TIME:20200125T061500
DTSTAMP;VALUE=DATE-TIME:20260422T180508Z
UID:9ba5fee63b98b6748b8bcd353804f213
CREATED;VALUE=DATE-TIME:20200125T000000Z
CATEGORIES:Esports
LOCATION:Parada Bus davant C.C.Calisay
ORGANIZER:Associació Ski Arenys
COMMENT:Preu: 108&euro;
Durada: 2 dies
DESCRIPTION:Cap de setmana a Espot Esquí
URL:https://arenysdemar.cat/document.php?id=37478
END:VEVENT
END:VCALENDAR