BEGIN:VCALENDAR
VERSION:2.0
PRODID:-//Plone.org//NONSGML plone.app.event//EN
X-WR-TIMEZONE:Europe/Madrid
BEGIN:VEVENT
SUMMARY:Festival Artístic per la Marató TV3
DTSTART;TZID=Europe/Madrid;VALUE=DATE-TIME:20191214T173000
DTEND;TZID=Europe/Madrid;VALUE=DATE-TIME:20191214T183000
DTSTAMP;VALUE=DATE-TIME:20260423T110753Z
UID:34d152069b05a5a7398c7e63f394e718
CREATED;VALUE=DATE-TIME:20191214T000000Z
CATEGORIES:Dansa
LOCATION:Sala Josep Maria Arnau del C.C.Calisay - Riera del Pare Fita, 31
ORGANIZER:Escola de Ballet d'Arenys
COMMENT:Preu: Aportació de 7 euros
DESCRIPTION:Exhibició de danses variades
URL:https://arenysdemar.cat/document.php?id=37480
END:VEVENT
END:VCALENDAR