BEGIN:VCALENDAR
VERSION:2.0
PRODID:-//Plone.org//NONSGML plone.app.event//EN
X-WR-TIMEZONE:Europe/Madrid
BEGIN:VEVENT
SUMMARY:Presentació de llibre: Inquisició i decadència, de Jordi Bilbeny
DTSTART;TZID=Europe/Madrid;VALUE=DATE-TIME:20191220T190000
DTEND;TZID=Europe/Madrid;VALUE=DATE-TIME:20191220T200000
DTSTAMP;VALUE=DATE-TIME:20260423T212550Z
UID:85ef9fc84e09559e52d94aa90b6d4a68
CREATED;VALUE=DATE-TIME:20191220T000000Z
CATEGORIES:Literatura
LOCATION:Sala d'Actes de la Biblioteca - C. Bonaire, 3
ORGANIZER:Biblioteca - Regidoria de Cultura
DESCRIPTION:a càrrec de l'Annabel Moreno, Miquel Colomer, Carles Mora i Ramon Panyella
URL:https://arenysdemar.cat/document.php?id=37491
END:VEVENT
END:VCALENDAR