BEGIN:VCALENDAR
VERSION:2.0
PRODID:-//Plone.org//NONSGML plone.app.event//EN
X-WR-TIMEZONE:Europe/Madrid
BEGIN:VEVENT
SUMMARY:Festa del comerç de l'UBICA
DTSTART;TZID=Europe/Madrid;VALUE=DATE-TIME:20191215T110000
DTEND;TZID=Europe/Madrid;VALUE=DATE-TIME:20191215T120000
DTSTAMP;VALUE=DATE-TIME:20260423T123002Z
UID:3f61a17eff2f5560eef849d2debe82c1
CREATED;VALUE=DATE-TIME:20191215T000000Z
CATEGORIES:Festa
LOCATION:Part alta de la Riera
ORGANIZER:UBICA, Ajuntament Arenys de Mar
COMMENT:Preu: Gratuït
Durada: 11h a 14h
DESCRIPTION:Inici de la campanya de Nadal, jocs gegants de fusta, xocolatada i market
URL:https://arenysdemar.cat/document.php?id=37522
END:VEVENT
END:VCALENDAR