BEGIN:VCALENDAR
VERSION:2.0
PRODID:-//Plone.org//NONSGML plone.app.event//EN
X-WR-TIMEZONE:Europe/Madrid
BEGIN:VEVENT
SUMMARY:Ball del dissabte
DTSTART;TZID=Europe/Madrid;VALUE=DATE-TIME:20200208T223000
DTEND;TZID=Europe/Madrid;VALUE=DATE-TIME:20200208T233000
DTSTAMP;VALUE=DATE-TIME:20260426T013711Z
UID:d6d8b6eeb222059b3dfe759b70a9f7f2
CREATED;VALUE=DATE-TIME:20200208T000000Z
CATEGORIES:Música
LOCATION:Ateneu Arenyenc - Anselm Clavé, 22
ORGANIZER:Ateneu Arenyenc
COMMENT:Preu: Soci 5 euros i no soci 7 euros
DESCRIPTION:amb l'actuació de Pep i Ma José Musics (Trio)
URL:https://arenysdemar.cat/document.php?id=37533
END:VEVENT
END:VCALENDAR