BEGIN:VCALENDAR
VERSION:2.0
PRODID:-//Plone.org//NONSGML plone.app.event//EN
X-WR-TIMEZONE:Europe/Madrid
BEGIN:VEVENT
SUMMARY:Calamarenys al Mercat ACTIVITAT SUSPESA
DTSTART;TZID=Europe/Madrid;VALUE=DATE-TIME:20201023T200000
DTEND;TZID=Europe/Madrid;VALUE=DATE-TIME:20201023T210000
DTSTAMP;VALUE=DATE-TIME:20260420T133750Z
UID:2988aba65aa18e9916457835eb7e95c6
CREATED;VALUE=DATE-TIME:20201023T000000Z
CATEGORIES:Festa
LOCATION:Mercat municipal - Riera Bisbe Pol, 82
ORGANIZER:Regidoria de Promoció Econòmica
COMMENT:Durada: Fins a les 12 de la nit
DESCRIPTION:Tapes al Mercat
URL:https://arenysdemar.cat/document.php?id=37536
END:VEVENT
END:VCALENDAR