BEGIN:VCALENDAR
VERSION:2.0
PRODID:-//Plone.org//NONSGML plone.app.event//EN
X-WR-TIMEZONE:Europe/Madrid
BEGIN:VEVENT
SUMMARY:Ball del dissabte ACTIVITAT SUSPESA
DTSTART;TZID=Europe/Madrid;VALUE=DATE-TIME:20200321T223000
DTEND;TZID=Europe/Madrid;VALUE=DATE-TIME:20200321T233000
DTSTAMP;VALUE=DATE-TIME:20260424T062001Z
UID:77c69b64fe42fd09bf4729c8587a0334
CREATED;VALUE=DATE-TIME:20200321T000000Z
CATEGORIES:Música
LOCATION:Ateneu Arenyenc - Anselm Clavé, 22
ORGANIZER:Ateneu Arenyenc
COMMENT:Preu: Soci 5 euros i no soci 7 euros
DESCRIPTION:amb l'actuació del Duet Txic to Txic
URL:https://arenysdemar.cat/document.php?id=37578
END:VEVENT
END:VCALENDAR