BEGIN:VCALENDAR
VERSION:2.0
PRODID:-//Plone.org//NONSGML plone.app.event//EN
X-WR-TIMEZONE:Europe/Madrid
BEGIN:VEVENT
SUMMARY:Espectacle de dansa sobre El llibre de la selva i El rei lleó
DTSTART;TZID=Europe/Madrid;VALUE=DATE-TIME:20191215T130000
DTEND;TZID=Europe/Madrid;VALUE=DATE-TIME:20191215T140000
DTSTAMP;VALUE=DATE-TIME:20260423T232848Z
UID:73795cf572f7ce6e2fb758fb09007407
CREATED;VALUE=DATE-TIME:20191215T000000Z
CATEGORIES:Dansa
LOCATION:Riera, davant del C.C. Calisay
ORGANIZER:Escola d'Arts Escèniques Z22
DESCRIPTION:en col·laboració amb la Marató de TV3
URL:https://arenysdemar.cat/document.php?id=37582
END:VEVENT
END:VCALENDAR