BEGIN:VCALENDAR
VERSION:2.0
PRODID:-//Plone.org//NONSGML plone.app.event//EN
X-WR-TIMEZONE:Europe/Madrid
BEGIN:VEVENT
SUMMARY:Conèixer és estimar
DTSTART;TZID=Europe/Madrid;VALUE=DATE-TIME:20191215T120000
DTEND;TZID=Europe/Madrid;VALUE=DATE-TIME:20191215T130000
DTSTAMP;VALUE=DATE-TIME:20260424T112450Z
UID:6b03de643a5ef080c7751e5c692bc7ea
CREATED;VALUE=DATE-TIME:20191215T000000Z
CATEGORIES:Mostra,Teatre
LOCATION:Riera, davant del C.C. Calisay
ORGANIZER:Regidoria de Drets Civils
DESCRIPTION:Cuines i Contes del Món
URL:https://arenysdemar.cat/document.php?id=37591
END:VEVENT
END:VCALENDAR