BEGIN:VCALENDAR
VERSION:2.0
PRODID:-//Plone.org//NONSGML plone.app.event//EN
X-WR-TIMEZONE:Europe/Madrid
BEGIN:VEVENT
SUMMARY:Excursió al Museu Gaudí Center de Reus
DTSTART;TZID=Europe/Madrid;VALUE=DATE-TIME:20200122T073000
DTEND;TZID=Europe/Madrid;VALUE=DATE-TIME:20200122T083000
DTSTAMP;VALUE=DATE-TIME:20260426T031047Z
UID:ff38df2b9bfd1dbd815fce004292cbaf
CREATED;VALUE=DATE-TIME:20200122T000000Z
CATEGORIES:Festa
LOCATION:Sortida de la Riera davant del CC Calisay
ORGANIZER:Vocalia de Jubilats
COMMENT:Preu: 55 euros els socis i 60 euros els no socis
Durada: tot el dia
URL:https://arenysdemar.cat/document.php?id=37604
END:VEVENT
END:VCALENDAR