BEGIN:VCALENDAR
VERSION:2.0
PRODID:-//Plone.org//NONSGML plone.app.event//EN
X-WR-TIMEZONE:Europe/Madrid
BEGIN:VEVENT
SUMMARY:Visita guiada a l'exposició: Òpera, passió, poder i política
DTSTART;TZID=Europe/Madrid;VALUE=DATE-TIME:20200123T090000
DTEND;TZID=Europe/Madrid;VALUE=DATE-TIME:20200123T100000
DTSTAMP;VALUE=DATE-TIME:20260426T031032Z
UID:e33d194c9f76fbe4b43d4549f39548dc
CREATED;VALUE=DATE-TIME:20200123T000000Z
CATEGORIES:Exposició
LOCATION:Sortida de la Riera davant del CC Calisay
ORGANIZER:Aula d'Extensió Universitària
DESCRIPTION:de Caixa Forum Barcelona
URL:https://arenysdemar.cat/document.php?id=37611
END:VEVENT
END:VCALENDAR