BEGIN:VCALENDAR
VERSION:2.0
PRODID:-//Plone.org//NONSGML plone.app.event//EN
X-WR-TIMEZONE:Europe/Madrid
BEGIN:VEVENT
SUMMARY:Exposició temporal del Museu d'Arenys de Mar: Un mar de tul. El ret fi, punta d'Arenys
DTSTART;TZID=Europe/Madrid;VALUE=DATE-TIME:20200126T120000
DTEND;TZID=Europe/Madrid;VALUE=DATE-TIME:20200126T130000
DTSTAMP;VALUE=DATE-TIME:20260420T203021Z
UID:d8b6c00b8670ddc9639f7f1602a65f0c
CREATED;VALUE=DATE-TIME:20200126T000000Z
CATEGORIES:Exposició
LOCATION:Museu Marès de les Puntes - Església, 41
ORGANIZER:Ajuntament d'Arenys de Mar- Museu d'Arenys de Mar
COMMENT:Preu: Gratuit
Durada: fins al 20 de desembre de 2020
URL:https://arenysdemar.cat/document.php?id=37614
END:VEVENT
END:VCALENDAR