BEGIN:VCALENDAR
VERSION:2.0
PRODID:-//Plone.org//NONSGML plone.app.event//EN
X-WR-TIMEZONE:Europe/Madrid
BEGIN:VEVENT
SUMMARY:4a Xerrada d'Escriptura Terapéutica. Reescriu la teva vida
DTSTART;TZID=Europe/Madrid;VALUE=DATE-TIME:20200131T173000
DTEND;TZID=Europe/Madrid;VALUE=DATE-TIME:20200131T183000
DTSTAMP;VALUE=DATE-TIME:20260421T201201Z
UID:c2204b098e05a32af6dde009aeb60da8
CREATED;VALUE=DATE-TIME:20200131T000000Z
CATEGORIES:Conferència
LOCATION:Ateneu Arenyenc - Anselm Clavé, 22
ORGANIZER:Ateneu Arenyenc
COMMENT:Preu: Gratuït
DESCRIPTION:amb Eva Lleonart
URL:https://arenysdemar.cat/document.php?id=37651
END:VEVENT
END:VCALENDAR