BEGIN:VCALENDAR
VERSION:2.0
PRODID:-//Plone.org//NONSGML plone.app.event//EN
X-WR-TIMEZONE:Europe/Madrid
BEGIN:VEVENT
SUMMARY:Pessebre Municipal
DTSTART;TZID=Europe/Madrid;VALUE=DATE-TIME:20200102T180000
DTEND;TZID=Europe/Madrid;VALUE=DATE-TIME:20200102T190000
DTSTAMP;VALUE=DATE-TIME:20260420T234041Z
UID:852b79e6db4fdd240228db0a31386b5a
CREATED;VALUE=DATE-TIME:20200102T000000Z
CATEGORIES:Exposició
LOCATION:Sala Exposicions del C.C.Calisay - Riera del Pare Fita, 31
ORGANIZER:Ajuntament d'Arenys de Mar
COMMENT:Durada: fins al 6 de gener de 2020
URL:https://arenysdemar.cat/document.php?id=37654
END:VEVENT
END:VCALENDAR