BEGIN:VCALENDAR
VERSION:2.0
PRODID:-//Plone.org//NONSGML plone.app.event//EN
X-WR-TIMEZONE:Europe/Madrid
BEGIN:VEVENT
SUMMARY:Dansa: Àer de Laia Santanach     ACTIVITAT AJORNADA
DTSTART;TZID=Europe/Madrid;VALUE=DATE-TIME:20200322T190000
DTEND;TZID=Europe/Madrid;VALUE=DATE-TIME:20200322T200000
DTSTAMP;VALUE=DATE-TIME:20260423T200306Z
UID:b8316090de69443792a996b128d2f0cd
CREATED;VALUE=DATE-TIME:20200322T000000Z
CATEGORIES:Dansa
LOCATION:Teatre Principal - C. Església, 45-47
ORGANIZER:Societat Coral l'Esperança i Regidoria de Cultura
COMMENT:Preu: 10 euros anticipat i 12 euros taquilla
URL:https://arenysdemar.cat/document.php?id=38173
END:VEVENT
END:VCALENDAR