BEGIN:VCALENDAR
VERSION:2.0
PRODID:-//Plone.org//NONSGML plone.app.event//EN
X-WR-TIMEZONE:Europe/Madrid
BEGIN:VEVENT
SUMMARY:Teatre familiar: Safari ACTIVITAT AJORNADA
DTSTART;TZID=Europe/Madrid;VALUE=DATE-TIME:20200329T180000
DTEND;TZID=Europe/Madrid;VALUE=DATE-TIME:20200329T190000
DTSTAMP;VALUE=DATE-TIME:20260424T023954Z
UID:2ba120328b858e0f2fc8b34f8cbab800
CREATED;VALUE=DATE-TIME:20200329T000000Z
CATEGORIES:Infantils
LOCATION:Teatre Principal - C. Església, 45-47
ORGANIZER:Societat Coral l'Esperança i Regidoria de Cultura
COMMENT:Preu: 6 euros anticipada i 7 euros taquilla
DESCRIPTION:a càrrec de la Cia. La Baldufa
URL:https://arenysdemar.cat/document.php?id=38175
END:VEVENT
END:VCALENDAR