BEGIN:VCALENDAR
VERSION:2.0
PRODID:-//Plone.org//NONSGML plone.app.event//EN
X-WR-TIMEZONE:Europe/Madrid
BEGIN:VEVENT
SUMMARY:Fira de brocanters i del col·leccionisme
DTSTART;TZID=Europe/Madrid;VALUE=DATE-TIME:20200913T100000
DTEND;TZID=Europe/Madrid;VALUE=DATE-TIME:20200913T110000
DTSTAMP;VALUE=DATE-TIME:20260426T051257Z
UID:0b042a64bfe8a9a200bee3910a45819f
CREATED;VALUE=DATE-TIME:20200913T000000Z
CATEGORIES:Mostra
LOCATION:Riera, davant del C.C. Calisay
ORGANIZER:Associació del Col·leccionisme Nou i Vell (Crisàlide)
COMMENT:Durada: Fins a les 2 del migdia
URL:https://arenysdemar.cat/document.php?id=38191
END:VEVENT
END:VCALENDAR