BEGIN:VCALENDAR
VERSION:2.0
PRODID:-//Plone.org//NONSGML plone.app.event//EN
X-WR-TIMEZONE:Europe/Madrid
BEGIN:VEVENT
SUMMARY:Fira de brocanters i del col·leccionisme
DTSTART;TZID=Europe/Madrid;VALUE=DATE-TIME:20200209T100000
DTEND;TZID=Europe/Madrid;VALUE=DATE-TIME:20200209T110000
DTSTAMP;VALUE=DATE-TIME:20260425T234619Z
UID:2855a811514fffef993d800f574de5b6
CREATED;VALUE=DATE-TIME:20200209T000000Z
CATEGORIES:Mostra
LOCATION:Riera, davant del C.C. Calisay
ORGANIZER:Associació del Col·leccionisme Nou i Vell (Crisàlide)
COMMENT:Durada: Fins a les 2 del migdia
URL:https://arenysdemar.cat/document.php?id=38199
END:VEVENT
END:VCALENDAR