BEGIN:VCALENDAR
VERSION:2.0
PRODID:-//Plone.org//NONSGML plone.app.event//EN
X-WR-TIMEZONE:Europe/Madrid
BEGIN:VEVENT
SUMMARY:Fira Artesania  ACTIVITAT SUSPESA
DTSTART;TZID=Europe/Madrid;VALUE=DATE-TIME:20200705T100000
DTEND;TZID=Europe/Madrid;VALUE=DATE-TIME:20200705T110000
DTSTAMP;VALUE=DATE-TIME:20260426T000957Z
UID:b5d016a3f8f0d1487af39c8b805ca901
CREATED;VALUE=DATE-TIME:20200705T000000Z
CATEGORIES:Mostra
LOCATION:Riera, davant la Plaça de l'Església
ORGANIZER:Associació del Col·leccionisme Nou i Vell (Crisàlide)
COMMENT:Durada: Tot el dia
URL:https://arenysdemar.cat/document.php?id=38203
END:VEVENT
END:VCALENDAR