BEGIN:VCALENDAR
VERSION:2.0
PRODID:-//Plone.org//NONSGML plone.app.event//EN
X-WR-TIMEZONE:Europe/Madrid
BEGIN:VEVENT
SUMMARY:Experiments elèctrics
DTSTART;TZID=Europe/Madrid;VALUE=DATE-TIME:20200215T171500
DTEND;TZID=Europe/Madrid;VALUE=DATE-TIME:20200215T181500
DTSTAMP;VALUE=DATE-TIME:20260425T201029Z
UID:c9f982695e09063422be3ac33e5debdd
CREATED;VALUE=DATE-TIME:20200215T000000Z
CATEGORIES:Mostra,Conferència
LOCATION:Sala Gran d'entitats del C.C. Calisay - Riera Pare Fita, 31
ORGANIZER:Associació Recolza Pro Altes Capacitats
COMMENT:Preu: 8 euros soci i 10 euros no socis
Durada: Fins a les 19:45h
DESCRIPTION:Conduït per en Marc Boada, divulgador científic de TV3
URL:https://arenysdemar.cat/document.php?id=38233
END:VEVENT
END:VCALENDAR