BEGIN:VCALENDAR
VERSION:2.0
PRODID:-//Plone.org//NONSGML plone.app.event//EN
X-WR-TIMEZONE:Europe/Madrid
BEGIN:VEVENT
SUMMARY:Conferència de Política: Transformar Catalunya des dels Ajuntaments ACTIVITAT AJORNADA
DTSTART;TZID=Europe/Madrid;VALUE=DATE-TIME:20200324T180000
DTEND;TZID=Europe/Madrid;VALUE=DATE-TIME:20200324T190000
DTSTAMP;VALUE=DATE-TIME:20260425T152558Z
UID:d2c55d101a37af5c9828adc7d8e594b7
CREATED;VALUE=DATE-TIME:20200324T000000Z
CATEGORIES:Conferència
LOCATION:Sala Josep Maria Arnau del C.C.Calisay - Riera del Pare Fita, 31
ORGANIZER:Aula d'Extensió Universitària
DESCRIPTION:a càrrec de Montserrat Tura, consellera de la Generalitat de Catalunya (2003-2010)
URL:https://arenysdemar.cat/document.php?id=38235
END:VEVENT
END:VCALENDAR