BEGIN:VCALENDAR
VERSION:2.0
PRODID:-//Plone.org//NONSGML plone.app.event//EN
X-WR-TIMEZONE:Europe/Madrid
BEGIN:VEVENT
SUMMARY:16a Lliga Social de Fotografia. ACTIVITAT ON-LINE
DTSTART;TZID=Europe/Madrid;VALUE=DATE-TIME:20200312T204500
DTEND;TZID=Europe/Madrid;VALUE=DATE-TIME:20200312T214500
DTSTAMP;VALUE=DATE-TIME:20260423T170015Z
UID:b668aea56235985ebabe4cbe80c814df
CREATED;VALUE=DATE-TIME:20200312T000000Z
CATEGORIES:Mostra
LOCATION:Local Social de l'AFA (Parc de la Mare Paula Montalt)
ORGANIZER:Agrupació Fotogràfica d'Arenys de Mar
DESCRIPTION:2n lliurament: Dona treballadora, solidàries, tendres, companyes, somniadores, mares, treballadores, lluitadores.... Retrat de la dona. 
URL:https://arenysdemar.cat/document.php?id=38250
END:VEVENT
END:VCALENDAR